BEGIN:VCALENDAR
VERSION:2.0
PRODID:-//Universidad Católica de Cuenca - ECPv6.15.17.1//NONSGML v1.0//EN
CALSCALE:GREGORIAN
METHOD:PUBLISH
X-ORIGINAL-URL:https://www.ucacue.edu.ec
X-WR-CALDESC:Eventos para Universidad Católica de Cuenca
REFRESH-INTERVAL;VALUE=DURATION:PT1H
X-Robots-Tag:noindex
X-PUBLISHED-TTL:PT1H
BEGIN:VTIMEZONE
TZID:America/Guayaquil
BEGIN:DAYLIGHT
TZOFFSETFROM:-0500
TZOFFSETTO:-0400
TZNAME:-04
DTSTART:19921128T050000
END:DAYLIGHT
BEGIN:STANDARD
TZOFFSETFROM:-0400
TZOFFSETTO:-0500
TZNAME:-05
DTSTART:19930205T040000
END:STANDARD
END:VTIMEZONE
BEGIN:VEVENT
DTSTART;TZID=America/Guayaquil:20260421T185528
DTEND;TZID=America/Guayaquil:20230519T000000
DTSTAMP:20260421T185528
CREATED:20230519T193805Z
LAST-MODIFIED:20230519T200212Z
UID:82511-0-1684454400@www.ucacue.edu.ec
SUMMARY:Matrículas primer ciclo / periodo septiembre 2023 - febrero 2024
DESCRIPTION:
URL:https://www.ucacue.edu.ec/evento/matriculas-especiales-periodo-marzo-agosto-2023-medicina-copy-copy/
CATEGORIES:Institucional
END:VEVENT
BEGIN:VEVENT
DTSTART;VALUE=DATE:20210415
DTEND;VALUE=DATE:20210430
DTSTAMP:20260421T185528
CREATED:20210326T162127Z
LAST-MODIFIED:20210326T162310Z
UID:41336-1618444800-1619740799@www.ucacue.edu.ec
SUMMARY:Matrículas Ordinarias- La Troncal - Primeros ciclos
DESCRIPTION:
URL:https://www.ucacue.edu.ec/evento/matriculas-ordinarias-la-troncal-primeros-ciclos/
CATEGORIES:La Troncal
ATTACH;FMTTYPE=:
END:VEVENT
BEGIN:VEVENT
DTSTART;VALUE=DATE:20210419
DTEND;VALUE=DATE:20210425
DTSTAMP:20260421T185528
CREATED:20210326T162729Z
LAST-MODIFIED:20210326T162920Z
UID:41345-1618790400-1619308799@www.ucacue.edu.ec
SUMMARY:Matrículas Extraordinarias - Carreras Técnicas
DESCRIPTION:
URL:https://www.ucacue.edu.ec/evento/matriculas-extraordinarias-carreras-tecnicas/
CATEGORIES:Carreras Técnicas y Tecnológicas
ATTACH;FMTTYPE=:
END:VEVENT
BEGIN:VEVENT
DTSTART;VALUE=DATE:20210424
DTEND;VALUE=DATE:20210501
DTSTAMP:20260421T185528
CREATED:20210316T194136Z
LAST-MODIFIED:20210316T194825Z
UID:41122-1619222400-1619827199@www.ucacue.edu.ec
SUMMARY:Matrículas Extraordinarias
DESCRIPTION:
URL:https://www.ucacue.edu.ec/evento/matriculas-extraordinarias-centro-de-idiomas/
CATEGORIES:Centro de Idiomas
ATTACH;FMTTYPE=:
END:VEVENT
END:VCALENDAR