BEGIN:VCALENDAR
VERSION:2.0
PRODID:-//Universidad Católica de Cuenca - ECPv6.15.17.1//NONSGML v1.0//EN
CALSCALE:GREGORIAN
METHOD:PUBLISH
X-WR-CALNAME:Universidad Católica de Cuenca
X-ORIGINAL-URL:https://www.ucacue.edu.ec
X-WR-CALDESC:Eventos para Universidad Católica de Cuenca
REFRESH-INTERVAL;VALUE=DURATION:PT1H
X-Robots-Tag:noindex
X-PUBLISHED-TTL:PT1H
BEGIN:VTIMEZONE
TZID:America/Guayaquil
BEGIN:DAYLIGHT
TZOFFSETFROM:-0500
TZOFFSETTO:-0400
TZNAME:-04
DTSTART:19921128T050000
END:DAYLIGHT
BEGIN:STANDARD
TZOFFSETFROM:-0400
TZOFFSETTO:-0500
TZNAME:-05
DTSTART:19930205T040000
END:STANDARD
END:VTIMEZONE
BEGIN:VEVENT
DTSTART;TZID=America/Guayaquil:20260425T173604
DTEND;TZID=America/Guayaquil:20230519T000000
DTSTAMP:20260425T173604
CREATED:20230519T193805Z
LAST-MODIFIED:20230519T200212Z
UID:82511-0-1684454400@www.ucacue.edu.ec
SUMMARY:Matrículas primer ciclo / periodo septiembre 2023 - febrero 2024
DESCRIPTION:
URL:https://www.ucacue.edu.ec/evento/matriculas-especiales-periodo-marzo-agosto-2023-medicina-copy-copy/
CATEGORIES:Institucional
END:VEVENT
BEGIN:VEVENT
DTSTART;TZID=America/Guayaquil:20220411T000000
DTEND;TZID=America/Guayaquil:20220803T000000
DTSTAMP:20260425T173604
CREATED:20220123T215916Z
LAST-MODIFIED:20220314T154731Z
UID:50426-1649635200-1659484800@www.ucacue.edu.ec
SUMMARY:Inicio de clases y Evaluaciones - Sistema Regular\, Sistema Modular / Periodo abril - septiembre 2022
DESCRIPTION:INICIO DE CLASES: 11 de abril de 2022\nFIN DE CLASES: 3 de agosto de 2022 \nEXAMEN INTERCICLO: Una vez transcurrido el 50% del módulo\nEXAMEN FINAL: Al finalizar el módulo \nTUTORIAS DE RECUPERACIÓN: Posterior a la evaluación final\nEVALUACIÓN DE RECUPERACIÓN (supletorios) Una vez cumplidas las tutorías de recuperación
URL:https://www.ucacue.edu.ec/evento/inicio-de-clases-y-evaluaciones-sistema-regular-sistema-modular-periodo-abril-septiembre-2022/
CATEGORIES:Institucional
END:VEVENT
BEGIN:VEVENT
DTSTART;VALUE=DATE:20220620
DTEND;VALUE=DATE:20220621
DTSTAMP:20260425T173604
CREATED:20220621T181152Z
LAST-MODIFIED:20220622T214734Z
UID:60071-1655683200-1655769599@www.ucacue.edu.ec
SUMMARY:Sesión ordinaria del Tribunal Electora
DESCRIPTION:Lunes 20 de junio \n14h30: Sesión ordinaria del Tribunal Electoral para:\n Conocer la Convocatoria Rectoral sobre la elección de representantes de Profesores/as\, Estudiantes y Trabajadores/as a los Órganos de Cogobierno: Consejo Universitario y Consejos Directivos de Unidades Académicas; para conformar los Colegios Electorales que designarán a sus representantes a la Asamblea del Sistema de Educación Superior Ecuatoriana – Asesec; y\, Elecciones Estudiantiles.\n Elaborar y aprobar el cronograma de todo el proceso electoral.\n Solicitar a la Jefatura de Talento Humano los Registros Electorales de profesores/as\ntitulares y de trabajadores o trabajadoras; y\, a la Secretaría General el Registro Electoral de los/las estudiantes.\n Autorizar la preparación de los documentos necesarios para el proceso electoral. \nNota: Los responsables entregarán el Registros Electorales impresos y en versión digital hasta las 12h00 del lunes 27 de junio\, en la Secretaría del Tribunal Electoral Universitario (Prosecretaria General de la Universidad Católica de Cuenca / planta baja del edificio administrativo)
URL:https://www.ucacue.edu.ec/evento/sesion-ordinaria-del-tribunal-electora/
CATEGORIES:Elecciones
END:VEVENT
END:VCALENDAR