BEGIN:VCALENDAR
VERSION:2.0
PRODID:-//Universidad Católica de Cuenca - ECPv6.15.17.1//NONSGML v1.0//EN
CALSCALE:GREGORIAN
METHOD:PUBLISH
X-ORIGINAL-URL:https://www.ucacue.edu.ec
X-WR-CALDESC:Eventos para Universidad Católica de Cuenca
REFRESH-INTERVAL;VALUE=DURATION:PT1H
X-Robots-Tag:noindex
X-PUBLISHED-TTL:PT1H
BEGIN:VTIMEZONE
TZID:America/Guayaquil
BEGIN:DAYLIGHT
TZOFFSETFROM:-0500
TZOFFSETTO:-0400
TZNAME:-04
DTSTART:19921128T050000
END:DAYLIGHT
BEGIN:STANDARD
TZOFFSETFROM:-0400
TZOFFSETTO:-0500
TZNAME:-05
DTSTART:19930205T040000
END:STANDARD
END:VTIMEZONE
BEGIN:VEVENT
DTSTART;TZID=America/Guayaquil:20260425T161330
DTEND;TZID=America/Guayaquil:20230519T000000
DTSTAMP:20260425T161330
CREATED:20230519T193805Z
LAST-MODIFIED:20230519T200212Z
UID:82511-0-1684454400@www.ucacue.edu.ec
SUMMARY:Matrículas primer ciclo / periodo septiembre 2023 - febrero 2024
DESCRIPTION:
URL:https://www.ucacue.edu.ec/evento/matriculas-especiales-periodo-marzo-agosto-2023-medicina-copy-copy/
CATEGORIES:Institucional
END:VEVENT
BEGIN:VEVENT
DTSTART;TZID=America/Guayaquil:20220411T000000
DTEND;TZID=America/Guayaquil:20220803T000000
DTSTAMP:20260425T161330
CREATED:20220123T215916Z
LAST-MODIFIED:20220314T154731Z
UID:50426-1649635200-1659484800@www.ucacue.edu.ec
SUMMARY:Inicio de clases y Evaluaciones - Sistema Regular\, Sistema Modular / Periodo abril - septiembre 2022
DESCRIPTION:INICIO DE CLASES: 11 de abril de 2022\nFIN DE CLASES: 3 de agosto de 2022 \nEXAMEN INTERCICLO: Una vez transcurrido el 50% del módulo\nEXAMEN FINAL: Al finalizar el módulo \nTUTORIAS DE RECUPERACIÓN: Posterior a la evaluación final\nEVALUACIÓN DE RECUPERACIÓN (supletorios) Una vez cumplidas las tutorías de recuperación
URL:https://www.ucacue.edu.ec/evento/inicio-de-clases-y-evaluaciones-sistema-regular-sistema-modular-periodo-abril-septiembre-2022/
CATEGORIES:Institucional
END:VEVENT
BEGIN:VEVENT
DTSTART;VALUE=DATE:20220627
DTEND;VALUE=DATE:20220628
DTSTAMP:20260425T161330
CREATED:20220621T181258Z
LAST-MODIFIED:20220622T214913Z
UID:60073-1656288000-1656374399@www.ucacue.edu.ec
SUMMARY:Recepción en Secretaría
DESCRIPTION:Lunes 27 de junio\n12h00: Recepción en Secretaría\, de:\n Registro Electoral de Profesores y Trabajadores (Talento Humano).\n Registro Electoral de Estudiantes (Secretaría General).\n14h30: Sesión ordinaria del Tribunal Electoral para:\n Conocer los Registros Electorales de los Profesores\, Trabajadores y Estudiantes; y\, establecer el porcentaje de las firmas que se requieren para el respaldo de una lista.\n Proporcionar los registros electorales a la Jefatura de Tecnología Informática\, a efecto de que\, con la información constante en los registros\, se implemente el sistema de consulta de empadronamiento y solicitar se coloque el mismo en la página web oficial Institucional.\n Aprobar la publicación de la convocatoria\, con requisitos y más elementos necesarios\, de acuerdo con el Reglamento.\n Elaborar la solicitud para la publicidad de la convocatoria en los medios de comunicación y páginas web de la Institución.\n Autorizar a Secretaría del Tribunal\, la reproducción y entrega de los formularios para la recepción de firmas de apoyo\, a los representantes acreditados de las listas\, las mismas que serán entregadas hasta 24 horas antes de que caduque el plazo para la inscripción de listas. \nNota: Las listas de candidatos\, con los documentos de soporte\, serán entregadas y registradas en la Secretaría del Tribunal Electoral (Prosecretaria General) hasta las 12h00 del lunes 11 de julio.
URL:https://www.ucacue.edu.ec/evento/recepcion-en-secretaria/
CATEGORIES:Elecciones
END:VEVENT
END:VCALENDAR