BEGIN:VCALENDAR
VERSION:2.0
PRODID:-//Universidad Católica de Cuenca - ECPv6.15.17.1//NONSGML v1.0//EN
CALSCALE:GREGORIAN
METHOD:PUBLISH
X-ORIGINAL-URL:https://www.ucacue.edu.ec
X-WR-CALDESC:Eventos para Universidad Católica de Cuenca
REFRESH-INTERVAL;VALUE=DURATION:PT1H
X-Robots-Tag:noindex
X-PUBLISHED-TTL:PT1H
BEGIN:VTIMEZONE
TZID:America/Guayaquil
BEGIN:DAYLIGHT
TZOFFSETFROM:-0500
TZOFFSETTO:-0400
TZNAME:-04
DTSTART:19921128T050000
END:DAYLIGHT
BEGIN:STANDARD
TZOFFSETFROM:-0400
TZOFFSETTO:-0500
TZNAME:-05
DTSTART:19930205T040000
END:STANDARD
END:VTIMEZONE
BEGIN:VEVENT
DTSTART;TZID=America/Guayaquil:20260425T161334
DTEND;TZID=America/Guayaquil:20230519T000000
DTSTAMP:20260425T161334
CREATED:20230519T193805Z
LAST-MODIFIED:20230519T200212Z
UID:82511-0-1684454400@www.ucacue.edu.ec
SUMMARY:Matrículas primer ciclo / periodo septiembre 2023 - febrero 2024
DESCRIPTION:
URL:https://www.ucacue.edu.ec/evento/matriculas-especiales-periodo-marzo-agosto-2023-medicina-copy-copy/
CATEGORIES:Institucional
END:VEVENT
BEGIN:VEVENT
DTSTART;TZID=America/Guayaquil:20220411T000000
DTEND;TZID=America/Guayaquil:20220803T000000
DTSTAMP:20260425T161334
CREATED:20220123T215916Z
LAST-MODIFIED:20220314T154731Z
UID:50426-1649635200-1659484800@www.ucacue.edu.ec
SUMMARY:Inicio de clases y Evaluaciones - Sistema Regular\, Sistema Modular / Periodo abril - septiembre 2022
DESCRIPTION:INICIO DE CLASES: 11 de abril de 2022\nFIN DE CLASES: 3 de agosto de 2022 \nEXAMEN INTERCICLO: Una vez transcurrido el 50% del módulo\nEXAMEN FINAL: Al finalizar el módulo \nTUTORIAS DE RECUPERACIÓN: Posterior a la evaluación final\nEVALUACIÓN DE RECUPERACIÓN (supletorios) Una vez cumplidas las tutorías de recuperación
URL:https://www.ucacue.edu.ec/evento/inicio-de-clases-y-evaluaciones-sistema-regular-sistema-modular-periodo-abril-septiembre-2022/
CATEGORIES:Institucional
END:VEVENT
BEGIN:VEVENT
DTSTART;TZID=America/Guayaquil:20220701T000000
DTEND;TZID=America/Guayaquil:20220926T000000
DTSTAMP:20260425T161334
CREATED:20220630T133019Z
LAST-MODIFIED:20220630T133019Z
UID:60964-1656633600-1664150400@www.ucacue.edu.ec
SUMMARY:Inscripciones periodo oct 2022 - mar 2023 / Sistema Modular\, Regular y Medicina
DESCRIPTION:
URL:https://www.ucacue.edu.ec/evento/inscripciones-periodo-oct-2022-mar-2023-sistema-modular-regular-y-medicina/
CATEGORIES:Carreras Técnicas y Tecnológicas,Institucional
END:VEVENT
BEGIN:VEVENT
DTSTART;TZID=America/Guayaquil:20220701T000000
DTEND;TZID=America/Guayaquil:20220926T000000
DTSTAMP:20260425T161334
CREATED:20220630T133726Z
LAST-MODIFIED:20220630T133726Z
UID:60968-1656633600-1664150400@www.ucacue.edu.ec
SUMMARY:Nivelación y Admisión periodo oct 2022 - mar 2023 / Sistema Modular y Regular
DESCRIPTION:
URL:https://www.ucacue.edu.ec/evento/nivelacion-y-admision-periodo-oct-2022-mar-2023-sistema-modular-y-regular/
CATEGORIES:Carreras Técnicas y Tecnológicas,Institucional
END:VEVENT
BEGIN:VEVENT
DTSTART;VALUE=DATE:20220719
DTEND;VALUE=DATE:20220720
DTSTAMP:20260425T161334
CREATED:20220621T181536Z
LAST-MODIFIED:20220622T215147Z
UID:60080-1658188800-1658275199@www.ucacue.edu.ec
SUMMARY:Sesión permanente del Tribunal Electoral Universitario
DESCRIPTION:Martes 19 de julio\n08h00: sesión permanente del Tribunal Electoral Universitario\, con el fin de vigilar el proceso de votación\, hasta la proclamación de resultados.\nDe 08h00 a 20h00: votación.\n20h15: proclamación preliminar de resultados\, en el auditorio de la Casa Administrativa
URL:https://www.ucacue.edu.ec/evento/sesion-permanente-del-tribunal-electoral-universitario/
CATEGORIES:Elecciones
END:VEVENT
END:VCALENDAR