BEGIN:VCALENDAR
VERSION:2.0
PRODID:-//Universidad Católica de Cuenca - ECPv6.15.17.1//NONSGML v1.0//EN
CALSCALE:GREGORIAN
METHOD:PUBLISH
X-WR-CALNAME:Universidad Católica de Cuenca
X-ORIGINAL-URL:https://www.ucacue.edu.ec
X-WR-CALDESC:Eventos para Universidad Católica de Cuenca
REFRESH-INTERVAL;VALUE=DURATION:PT1H
X-Robots-Tag:noindex
X-PUBLISHED-TTL:PT1H
BEGIN:VTIMEZONE
TZID:America/Guayaquil
BEGIN:DAYLIGHT
TZOFFSETFROM:-0500
TZOFFSETTO:-0400
TZNAME:-04
DTSTART:19921128T050000
END:DAYLIGHT
BEGIN:STANDARD
TZOFFSETFROM:-0400
TZOFFSETTO:-0500
TZNAME:-05
DTSTART:19930205T040000
END:STANDARD
END:VTIMEZONE
BEGIN:VEVENT
DTSTART;TZID=America/Guayaquil:20260425T190814
DTEND;TZID=America/Guayaquil:20230519T000000
DTSTAMP:20260425T190814
CREATED:20230519T193805Z
LAST-MODIFIED:20230519T200212Z
UID:82511-0-1684454400@www.ucacue.edu.ec
SUMMARY:Matrículas primer ciclo / periodo septiembre 2023 - febrero 2024
DESCRIPTION:
URL:https://www.ucacue.edu.ec/evento/matriculas-especiales-periodo-marzo-agosto-2023-medicina-copy-copy/
CATEGORIES:Institucional
END:VEVENT
BEGIN:VEVENT
DTSTART;TZID=America/Guayaquil:20220411T000000
DTEND;TZID=America/Guayaquil:20220803T000000
DTSTAMP:20260425T190814
CREATED:20220123T215916Z
LAST-MODIFIED:20220314T154731Z
UID:50426-1649635200-1659484800@www.ucacue.edu.ec
SUMMARY:Inicio de clases y Evaluaciones - Sistema Regular\, Sistema Modular / Periodo abril - septiembre 2022
DESCRIPTION:INICIO DE CLASES: 11 de abril de 2022\nFIN DE CLASES: 3 de agosto de 2022 \nEXAMEN INTERCICLO: Una vez transcurrido el 50% del módulo\nEXAMEN FINAL: Al finalizar el módulo \nTUTORIAS DE RECUPERACIÓN: Posterior a la evaluación final\nEVALUACIÓN DE RECUPERACIÓN (supletorios) Una vez cumplidas las tutorías de recuperación
URL:https://www.ucacue.edu.ec/evento/inicio-de-clases-y-evaluaciones-sistema-regular-sistema-modular-periodo-abril-septiembre-2022/
CATEGORIES:Institucional
END:VEVENT
BEGIN:VEVENT
DTSTART;VALUE=DATE:20220620
DTEND;VALUE=DATE:20220621
DTSTAMP:20260425T190814
CREATED:20220621T181152Z
LAST-MODIFIED:20220622T214734Z
UID:60071-1655683200-1655769599@www.ucacue.edu.ec
SUMMARY:Sesión ordinaria del Tribunal Electora
DESCRIPTION:Lunes 20 de junio \n14h30: Sesión ordinaria del Tribunal Electoral para:\n Conocer la Convocatoria Rectoral sobre la elección de representantes de Profesores/as\, Estudiantes y Trabajadores/as a los Órganos de Cogobierno: Consejo Universitario y Consejos Directivos de Unidades Académicas; para conformar los Colegios Electorales que designarán a sus representantes a la Asamblea del Sistema de Educación Superior Ecuatoriana – Asesec; y\, Elecciones Estudiantiles.\n Elaborar y aprobar el cronograma de todo el proceso electoral.\n Solicitar a la Jefatura de Talento Humano los Registros Electorales de profesores/as\ntitulares y de trabajadores o trabajadoras; y\, a la Secretaría General el Registro Electoral de los/las estudiantes.\n Autorizar la preparación de los documentos necesarios para el proceso electoral. \nNota: Los responsables entregarán el Registros Electorales impresos y en versión digital hasta las 12h00 del lunes 27 de junio\, en la Secretaría del Tribunal Electoral Universitario (Prosecretaria General de la Universidad Católica de Cuenca / planta baja del edificio administrativo)
URL:https://www.ucacue.edu.ec/evento/sesion-ordinaria-del-tribunal-electora/
CATEGORIES:Elecciones
END:VEVENT
BEGIN:VEVENT
DTSTART;VALUE=DATE:20220627
DTEND;VALUE=DATE:20220628
DTSTAMP:20260425T190814
CREATED:20220621T181258Z
LAST-MODIFIED:20220622T214913Z
UID:60073-1656288000-1656374399@www.ucacue.edu.ec
SUMMARY:Recepción en Secretaría
DESCRIPTION:Lunes 27 de junio\n12h00: Recepción en Secretaría\, de:\n Registro Electoral de Profesores y Trabajadores (Talento Humano).\n Registro Electoral de Estudiantes (Secretaría General).\n14h30: Sesión ordinaria del Tribunal Electoral para:\n Conocer los Registros Electorales de los Profesores\, Trabajadores y Estudiantes; y\, establecer el porcentaje de las firmas que se requieren para el respaldo de una lista.\n Proporcionar los registros electorales a la Jefatura de Tecnología Informática\, a efecto de que\, con la información constante en los registros\, se implemente el sistema de consulta de empadronamiento y solicitar se coloque el mismo en la página web oficial Institucional.\n Aprobar la publicación de la convocatoria\, con requisitos y más elementos necesarios\, de acuerdo con el Reglamento.\n Elaborar la solicitud para la publicidad de la convocatoria en los medios de comunicación y páginas web de la Institución.\n Autorizar a Secretaría del Tribunal\, la reproducción y entrega de los formularios para la recepción de firmas de apoyo\, a los representantes acreditados de las listas\, las mismas que serán entregadas hasta 24 horas antes de que caduque el plazo para la inscripción de listas. \nNota: Las listas de candidatos\, con los documentos de soporte\, serán entregadas y registradas en la Secretaría del Tribunal Electoral (Prosecretaria General) hasta las 12h00 del lunes 11 de julio.
URL:https://www.ucacue.edu.ec/evento/recepcion-en-secretaria/
CATEGORIES:Elecciones
END:VEVENT
BEGIN:VEVENT
DTSTART;TZID=America/Guayaquil:20220701T000000
DTEND;TZID=America/Guayaquil:20220926T000000
DTSTAMP:20260425T190814
CREATED:20220630T133019Z
LAST-MODIFIED:20220630T133019Z
UID:60964-1656633600-1664150400@www.ucacue.edu.ec
SUMMARY:Inscripciones periodo oct 2022 - mar 2023 / Sistema Modular\, Regular y Medicina
DESCRIPTION:
URL:https://www.ucacue.edu.ec/evento/inscripciones-periodo-oct-2022-mar-2023-sistema-modular-regular-y-medicina/
CATEGORIES:Carreras Técnicas y Tecnológicas,Institucional
END:VEVENT
BEGIN:VEVENT
DTSTART;TZID=America/Guayaquil:20220701T000000
DTEND;TZID=America/Guayaquil:20220926T000000
DTSTAMP:20260425T190814
CREATED:20220630T133726Z
LAST-MODIFIED:20220630T133726Z
UID:60968-1656633600-1664150400@www.ucacue.edu.ec
SUMMARY:Nivelación y Admisión periodo oct 2022 - mar 2023 / Sistema Modular y Regular
DESCRIPTION:
URL:https://www.ucacue.edu.ec/evento/nivelacion-y-admision-periodo-oct-2022-mar-2023-sistema-modular-y-regular/
CATEGORIES:Carreras Técnicas y Tecnológicas,Institucional
END:VEVENT
BEGIN:VEVENT
DTSTART;VALUE=DATE:20220711
DTEND;VALUE=DATE:20220712
DTSTAMP:20260425T190814
CREATED:20220621T181438Z
LAST-MODIFIED:20220622T215046Z
UID:60077-1657497600-1657583999@www.ucacue.edu.ec
SUMMARY:Plazo máximo de entrega y registro de listas de candidatos/as
DESCRIPTION:Lunes 11 de julio\n12h00: plazo máximo de entrega y registro de listas de candidatos/as\, en la Secretaría del Tribunal Electoral (Prosecretaria General).\n14h00: sesión ordinaria del Tribunal Electoral para analizar los documentos presentados\, aprobarlos o no y establecer el número de lista\, autorizando el inicio de la publicidad. \nNota: las listas que hayan sido calificadas\, podrán iniciar el proceso publicitario o de promoción.\nA las listas que no se les califique ante requerimiento que puede ser solucionado o completado\, a criterio del Tribunal Electoral Universitario\, se les concederá un plazo máximo de 24 horas\, para que presenten los documentos observados\, para conocimiento y resolución del Tribunal.
URL:https://www.ucacue.edu.ec/evento/plazo-maximo-de-entrega-y-registro-de-listas-de-candidatos-as/
CATEGORIES:Elecciones
END:VEVENT
BEGIN:VEVENT
DTSTART;VALUE=DATE:20220719
DTEND;VALUE=DATE:20220720
DTSTAMP:20260425T190814
CREATED:20220621T181536Z
LAST-MODIFIED:20220622T215147Z
UID:60080-1658188800-1658275199@www.ucacue.edu.ec
SUMMARY:Sesión permanente del Tribunal Electoral Universitario
DESCRIPTION:Martes 19 de julio\n08h00: sesión permanente del Tribunal Electoral Universitario\, con el fin de vigilar el proceso de votación\, hasta la proclamación de resultados.\nDe 08h00 a 20h00: votación.\n20h15: proclamación preliminar de resultados\, en el auditorio de la Casa Administrativa
URL:https://www.ucacue.edu.ec/evento/sesion-permanente-del-tribunal-electoral-universitario/
CATEGORIES:Elecciones
END:VEVENT
BEGIN:VEVENT
DTSTART;TZID=America/Guayaquil:20220721T080000
DTEND;TZID=America/Guayaquil:20220721T170000
DTSTAMP:20260425T190814
CREATED:20220621T181639Z
LAST-MODIFIED:20220622T215231Z
UID:60082-1658390400-1658422800@www.ucacue.edu.ec
SUMMARY:Plazo máximo para la recepción de apelaciones
DESCRIPTION:Jueves 21 de julio\n12h00: plazo máximo para la recepción de apelaciones\, en Secretaría.\n15h00: sesión ordinaria para conocer y resolver sobre las apelaciones presentadas
URL:https://www.ucacue.edu.ec/evento/plazo-maximo-para-la-recepcion-de-apelaciones/
CATEGORIES:Elecciones
END:VEVENT
BEGIN:VEVENT
DTSTART;TZID=America/Guayaquil:20220725T000000
DTEND;TZID=America/Guayaquil:20220811T000000
DTSTAMP:20260425T190814
CREATED:20220630T150358Z
LAST-MODIFIED:20220630T150358Z
UID:60992-1658707200-1660176000@www.ucacue.edu.ec
SUMMARY:Becas por ciclo periodo oct 2022 – mar 2023 / Sistema Modular\, Regular y Medicina
DESCRIPTION:
URL:https://www.ucacue.edu.ec/evento/becas-por-ciclo-periodo-oct-2022-mar-2023-sistema-modular-regular-y-medicina/
CATEGORIES:Carreras Técnicas y Tecnológicas,Institucional
END:VEVENT
BEGIN:VEVENT
DTSTART;TZID=America/Guayaquil:20220726T080000
DTEND;TZID=America/Guayaquil:20220726T170000
DTSTAMP:20260425T190814
CREATED:20220621T181748Z
LAST-MODIFIED:20220622T215319Z
UID:60084-1658822400-1658854800@www.ucacue.edu.ec
SUMMARY:Sesión para proclamar definitivamente los resultados.
DESCRIPTION:Martes 26 de julio\nNota: Si hasta las 12h00 del 21 de julio no se receptan apelaciones\, el Tribunal Electoral\nsesionará para proclamar definitivamente los resultados.\n15h00: sesión ordinaria para proclamar de manera definitiva los resultados\, entregar las credenciales a los triunfadores/as\, e informar\, a través del Rector al Consejo Universitario para la posesión de los/las representantes
URL:https://www.ucacue.edu.ec/evento/sesion-para-proclamar-definitivamente-los-resultados/
CATEGORIES:Elecciones
END:VEVENT
BEGIN:VEVENT
DTSTART;TZID=America/Guayaquil:20220801T000000
DTEND;TZID=America/Guayaquil:20221002T000000
DTSTAMP:20260425T190814
CREATED:20220630T135557Z
LAST-MODIFIED:20220630T135557Z
UID:60978-1659312000-1664668800@www.ucacue.edu.ec
SUMMARY:Matrículas Ordinarias periodo oct 2022 – mar 2023 / Sistema Modular y Regular
DESCRIPTION:
URL:https://www.ucacue.edu.ec/evento/matriculas-ordinarias-periodo-oct-2022-mar-2023-sistema-modular-y-regular/
CATEGORIES:Carreras Técnicas y Tecnológicas,Institucional
END:VEVENT
BEGIN:VEVENT
DTSTART;TZID=America/Guayaquil:20220829T000000
DTEND;TZID=America/Guayaquil:20220929T000000
DTSTAMP:20260425T190814
CREATED:20220630T134247Z
LAST-MODIFIED:20220630T134247Z
UID:60970-1661731200-1664409600@www.ucacue.edu.ec
SUMMARY:Nivelación y Admisión periodo oct 2022 - mar 2023 / Matricula de Nivelación / Carrera de Medicina
DESCRIPTION:
URL:https://www.ucacue.edu.ec/evento/nivelacion-y-admision-periodo-oct-2022-mar-2023-matricula-de-nivelacion-carrera-de-medicina/
CATEGORIES:Institucional
END:VEVENT
BEGIN:VEVENT
DTSTART;TZID=America/Guayaquil:20220930T000000
DTEND;TZID=America/Guayaquil:20221017T000000
DTSTAMP:20260425T190814
CREATED:20220630T145433Z
LAST-MODIFIED:20220630T145433Z
UID:60989-1664496000-1665964800@www.ucacue.edu.ec
SUMMARY:Becas por primera vez periodo oct 2022 – mar 2023 / Sistema Modular\, Regular y Medicina
DESCRIPTION:
URL:https://www.ucacue.edu.ec/evento/becas-por-primera-vez-periodo-oct-2022-mar-2023-sistema-modular-regular-y-medicina/
CATEGORIES:Carreras Técnicas y Tecnológicas,Institucional
END:VEVENT
BEGIN:VEVENT
DTSTART;TZID=America/Guayaquil:20221002T000000
DTEND;TZID=America/Guayaquil:20221028T000000
DTSTAMP:20260425T190814
CREATED:20220630T152306Z
LAST-MODIFIED:20220630T152306Z
UID:60995-1664668800-1666915200@www.ucacue.edu.ec
SUMMARY:Matrículas Varias Medicina periodo oct 2022 – mar 2023
DESCRIPTION:• ORDINARIAS: Hasta el 2 de octubre de 2022\n– Primer ciclo: 26 de septiembre\n– Segundo a cuarto ciclo: 27 de septiembre\n– Quinto a sexto: 28 de septiembre\n– Séptimo a octavo: 29 de septiembre\n– Noveno a décimo: 30 de septiembre\n• EXTRAORDINARIAS: Del 3 al 14 de octubre de 2022\n• ESPECIALES: Del 17 al 28 de octubre de 2022
URL:https://www.ucacue.edu.ec/evento/matriculas-varias-medicina-periodo-oct-2022-mar-2023/
CATEGORIES:Institucional
END:VEVENT
BEGIN:VEVENT
DTSTART;TZID=America/Guayaquil:20221003T000000
DTEND;TZID=America/Guayaquil:20221011T000000
DTSTAMP:20260425T190814
CREATED:20220630T143228Z
LAST-MODIFIED:20220630T143228Z
UID:60984-1664755200-1665446400@www.ucacue.edu.ec
SUMMARY:Matrículas Extraordinarias periodo oct 2022 – mar 2023 / Sistema Modular
DESCRIPTION:
URL:https://www.ucacue.edu.ec/evento/matriculas-extraordinarias-periodo-oct-2022-mar-2023-sistema-modular/
CATEGORIES:Carreras Técnicas y Tecnológicas,Institucional
END:VEVENT
BEGIN:VEVENT
DTSTART;TZID=America/Guayaquil:20221003T000000
DTEND;TZID=America/Guayaquil:20221014T000000
DTSTAMP:20260425T190814
CREATED:20220630T141704Z
LAST-MODIFIED:20220630T141704Z
UID:60980-1664755200-1665705600@www.ucacue.edu.ec
SUMMARY:Matrículas Extraordinarias periodo oct 2022 – mar 2023 / Sistema Regular
DESCRIPTION:
URL:https://www.ucacue.edu.ec/evento/matriculas-extraordinarias-periodo-oct-2022-mar-2023-sistema-regular/
CATEGORIES:Carreras Técnicas y Tecnológicas,Institucional
END:VEVENT
BEGIN:VEVENT
DTSTART;TZID=America/Guayaquil:20221003T000000
DTEND;TZID=America/Guayaquil:20230224T000000
DTSTAMP:20260425T190814
CREATED:20220630T134625Z
LAST-MODIFIED:20220630T134625Z
UID:60973-1664755200-1677196800@www.ucacue.edu.ec
SUMMARY:Nivelación y Admisión periodo oct 2022 – mar 2023 / Inicio de Clases de Nivelación / Carrera de Medicina
DESCRIPTION:
URL:https://www.ucacue.edu.ec/evento/nivelacion-y-admision-periodo-oct-2022-mar-2023-inicio-de-clases-de-nivelacion-carrera-de-medicina/
CATEGORIES:Institucional
END:VEVENT
BEGIN:VEVENT
DTSTART;TZID=America/Guayaquil:20221003T000000
DTEND;TZID=America/Guayaquil:20230201T000000
DTSTAMP:20260425T190814
CREATED:20220630T165057Z
LAST-MODIFIED:20220630T165057Z
UID:61039-1664755200-1675209600@www.ucacue.edu.ec
SUMMARY:Clases y Evaluaciones periodo oct 2022 – mar 2023 / Sistema Modular
DESCRIPTION:• INICIO DE CLASES: 3 de octubre de 2022\n• FIN DE CLASES: 1 de febrero de 2023\n• EXAMEN INTERCICLO: Una vez transcurrido el 50% del módulo\n• EVALUACIÓN FINAL: Al final del módulo\n• TUTORÍAS DE RECUPERACIÓN: Posterior a la evaluación final\n• EVALUACIÓN DE RECUPERACIÓN (SUPLETORIOS):\nUna vez cumplidas las tutorías de recuperación
URL:https://www.ucacue.edu.ec/evento/clases-y-evaluaciones-periodo-oct-2022-mar-2023-sistema-modular/
CATEGORIES:Carreras Técnicas y Tecnológicas,Institucional
END:VEVENT
BEGIN:VEVENT
DTSTART;TZID=America/Guayaquil:20221003T000000
DTEND;TZID=America/Guayaquil:20230306T000000
DTSTAMP:20260425T190814
CREATED:20220630T182152Z
LAST-MODIFIED:20220630T182152Z
UID:61062-1664755200-1678060800@www.ucacue.edu.ec
SUMMARY:Clases y Evaluaciones periodo oct 2022 – mar 2023 / Medicina
DESCRIPTION:• INICIO DE CLASES: 3 de octubre de 2022\n• FIN DE CLASES: 15 de febrero de 2023\n• EXAMEN INTERCICLO: Del 8 al 16 de diciembre de 2022\n• EVALUACIÓN FINAL: Del 8 al 15 de febrero de 2023\n• TUTORÍAS DE RECUPERACIÓN: Del 16 al 24 de febrero de 2023\n• EVALUACIÓN DE RECUPERACIÓN (SUPLETORIOS):\nDel 27 de febrero al 6 de marzo de 2023
URL:https://www.ucacue.edu.ec/evento/clases-y-evaluaciones-periodo-oct-2022-mar-2023-medicina/
CATEGORIES:Institucional
END:VEVENT
BEGIN:VEVENT
DTSTART;TZID=America/Guayaquil:20221003T080000
DTEND;TZID=America/Guayaquil:20230214T170000
DTSTAMP:20260425T190814
CREATED:20220630T164540Z
LAST-MODIFIED:20220630T164540Z
UID:61037-1664784000-1676394000@www.ucacue.edu.ec
SUMMARY:Clases y Evaluaciones periodo oct 2022 – mar 2023 / Sistema Regular
DESCRIPTION:• INICIO DE CLASES: 3 de octubre de 2022\n• FIN DE CLASES: 1 de febrero de 2023\n• EXAMEN INTERCICLO: Del 5 al 19 de diciembre de 2022\n• EVALUACIÓN FINAL: Del 26 de enero al 1 de febrero de 2023\n• TUTORÍAS DE RECUPERACIÓN: Del 2 al 7 de febrero de 2023\n• EVALUACIÓN DE RECUPERACIÓN (SUPLETORIOS):\nDel 8 al 14 de febrero de 2023
URL:https://www.ucacue.edu.ec/evento/clases-y-evaluaciones-periodo-oct-2022-mar-2023-sistema-regular/
CATEGORIES:Carreras Técnicas y Tecnológicas,Institucional
END:VEVENT
BEGIN:VEVENT
DTSTART;TZID=America/Guayaquil:20221012T000000
DTEND;TZID=America/Guayaquil:20221018T000000
DTSTAMP:20260425T190814
CREATED:20220630T143540Z
LAST-MODIFIED:20220630T143540Z
UID:60986-1665532800-1666051200@www.ucacue.edu.ec
SUMMARY:Matrículas Especiales periodo oct 2022 – mar 2023 / Sistema Modular
DESCRIPTION:
URL:https://www.ucacue.edu.ec/evento/matriculas-especiales-periodo-oct-2022-mar-2023-sistema-modular/
CATEGORIES:Carreras Técnicas y Tecnológicas,Institucional
END:VEVENT
BEGIN:VEVENT
DTSTART;TZID=America/Guayaquil:20221017T000000
DTEND;TZID=America/Guayaquil:20221028T000000
DTSTAMP:20260425T190814
CREATED:20220630T142535Z
LAST-MODIFIED:20220630T142535Z
UID:60982-1665964800-1666915200@www.ucacue.edu.ec
SUMMARY:Matrículas Especiales periodo oct 2022 – mar 2023 / Sistema Regular
DESCRIPTION:
URL:https://www.ucacue.edu.ec/evento/matriculas-especiales-periodo-oct-2022-mar-2023-sistema-regular/
CATEGORIES:Carreras Técnicas y Tecnológicas,Institucional
END:VEVENT
BEGIN:VEVENT
DTSTART;TZID=America/Guayaquil:20221128T000000
DTEND;TZID=America/Guayaquil:20230120T000000
DTSTAMP:20260425T190814
CREATED:20220630T154457Z
LAST-MODIFIED:20220630T154457Z
UID:60999-1669593600-1674172800@www.ucacue.edu.ec
SUMMARY:Evaluación Integral Docente periodo oct 2022 – mar 2023 / Sistema Regular y Modular
DESCRIPTION:• EVALUACIÓN INTEGRAL DOCENTE:\nDel 16 al 20 de enero de 2023\n• SEGUIMIENTO AL SYLLABUS:\n28 de noviembre de 2022 y 19 de enero de 2023
URL:https://www.ucacue.edu.ec/evento/evaluacion-integral-docente-periodo-oct-2022-mar-2023-sistema-regular-y-modular/
CATEGORIES:Institucional
END:VEVENT
BEGIN:VEVENT
DTSTART;TZID=America/Guayaquil:20221201T000000
DTEND;TZID=America/Guayaquil:20230130T000000
DTSTAMP:20260425T190814
CREATED:20220630T155835Z
LAST-MODIFIED:20220630T155835Z
UID:61004-1669852800-1675036800@www.ucacue.edu.ec
SUMMARY:Evaluación Integral Docente periodo oct 2022 – mar 2023 / Medicina
DESCRIPTION:• EVALUACIÓN INTEGRAL DOCENTE:\nDel 23 al 27 de enero de 2023\n• SEGUIMIENTO AL SYLLABUS:\n1 de diciembre de 2022 y 30 de enero de 2023
URL:https://www.ucacue.edu.ec/evento/evaluacion-integral-docente-periodo-oct-2022-mar-2023-medicina/
CATEGORIES:Institucional
END:VEVENT
BEGIN:VEVENT
DTSTART;TZID=America/Guayaquil:20230120T080000
DTEND;TZID=America/Guayaquil:20230331T170000
DTSTAMP:20260425T190814
CREATED:20230223T190246Z
LAST-MODIFIED:20230223T190334Z
UID:78101-1674201600-1680282000@www.ucacue.edu.ec
SUMMARY:Inscripciones periodo marzo - agosto 2023 / Sistema Regular\, Modular y Medicina
DESCRIPTION:
URL:https://www.ucacue.edu.ec/evento/inscripciones-periodo-marzo-agosto-2023-sistema-modular-regular-y-medicina/
CATEGORIES:Institucional
END:VEVENT
BEGIN:VEVENT
DTSTART;TZID=America/Guayaquil:20230201T080000
DTEND;TZID=America/Guayaquil:20230214T170000
DTSTAMP:20260425T190814
CREATED:20230223T201422Z
LAST-MODIFIED:20230223T202048Z
UID:78127-1675238400-1676394000@www.ucacue.edu.ec
SUMMARY:Asignación de becas por ciclo periodo marzo - agosto 2023 / Medicina\, Regular y Modular
DESCRIPTION:
URL:https://www.ucacue.edu.ec/evento/asignacion-de-becas-por-ciclo-periodo-marzo-agosto-2023-medicina/
CATEGORIES:Institucional
END:VEVENT
BEGIN:VEVENT
DTSTART;TZID=America/Guayaquil:20230214T080000
DTEND;TZID=America/Guayaquil:20230222T170000
DTSTAMP:20260425T190814
CREATED:20230223T190651Z
LAST-MODIFIED:20230223T190651Z
UID:78104-1676361600-1677085200@www.ucacue.edu.ec
SUMMARY:Nivelación y Admisión periodo marzo - agosto 2023 / Sistema Regular y Modular
DESCRIPTION:Una vez inscrito iniciar curso MOOC (requisito obligatorio para matricula)
URL:https://www.ucacue.edu.ec/evento/nivelacion-y-admision-periodo-marzo-agosto-2023-sistema-regular-y-modular/
CATEGORIES:Institucional
END:VEVENT
BEGIN:VEVENT
DTSTART;TZID=America/Guayaquil:20230217T080000
DTEND;TZID=America/Guayaquil:20230312T170000
DTSTAMP:20260425T190814
CREATED:20230223T191343Z
LAST-MODIFIED:20230223T191343Z
UID:78106-1676620800-1678640400@www.ucacue.edu.ec
SUMMARY:Nivelación y Admisión periodo marzo - agosto 2023 / Medicina
DESCRIPTION:• MATRÍCULAS DE NIVELACIÓN: Del 17 de febrero al 12 de marzo de 2023\n• INICIO DE CLASES DE NIVELACIÓN: 20 de marzo de 2023\n• PUBLICACIÓN DE RESULTADOS: 14 de agosto de 2023
URL:https://www.ucacue.edu.ec/evento/nivelacion-y-admision-periodo-marzo-agosto-2023-medicina/
CATEGORIES:Institucional
END:VEVENT
BEGIN:VEVENT
DTSTART;TZID=America/Guayaquil:20230223T080000
DTEND;TZID=America/Guayaquil:20230319T170000
DTSTAMP:20260425T190814
CREATED:20230223T200757Z
LAST-MODIFIED:20230223T200757Z
UID:78119-1677139200-1679245200@www.ucacue.edu.ec
SUMMARY:Matrículas ordinarias periodo marzo - agosto 2023 / Regular y Modular
DESCRIPTION:
URL:https://www.ucacue.edu.ec/evento/matriculas-ordinarias-periodo-marzo-agosto-2023-regular-y-modular-2/
CATEGORIES:Institucional
END:VEVENT
END:VCALENDAR