BEGIN:VCALENDAR
VERSION:2.0
PRODID:-//Universidad Católica de Cuenca - ECPv6.15.17.1//NONSGML v1.0//EN
CALSCALE:GREGORIAN
METHOD:PUBLISH
X-ORIGINAL-URL:https://www.ucacue.edu.ec
X-WR-CALDESC:Eventos para Universidad Católica de Cuenca
REFRESH-INTERVAL;VALUE=DURATION:PT1H
X-Robots-Tag:noindex
X-PUBLISHED-TTL:PT1H
BEGIN:VTIMEZONE
TZID:America/Guayaquil
BEGIN:STANDARD
TZOFFSETFROM:-0500
TZOFFSETTO:-0500
TZNAME:-05
DTSTART:20220101T000000
END:STANDARD
END:VTIMEZONE
BEGIN:VEVENT
DTSTART;TZID=America/Guayaquil:20240401T080000
DTEND;TZID=America/Guayaquil:20240405T170000
DTSTAMP:20260420T095250
CREATED:20240221T165832Z
LAST-MODIFIED:20240221T191406Z
UID:89750-1711958400-1712336400@www.ucacue.edu.ec
SUMMARY:Matrículas Especiales | Período marzo - agosto 2024 | Sistema Regular
DESCRIPTION:
URL:https://www.ucacue.edu.ec/evento/matriculas-especiales-periodo-marzo-agosto-2024-sistema-regular/
CATEGORIES:Institucional
END:VEVENT
BEGIN:VEVENT
DTSTART;TZID=America/Guayaquil:20240325T080000
DTEND;TZID=America/Guayaquil:20240329T170000
DTSTAMP:20260420T095250
CREATED:20240221T165429Z
LAST-MODIFIED:20240221T191445Z
UID:89747-1711353600-1711731600@www.ucacue.edu.ec
SUMMARY:Matrículas Especiales | Período marzo - agosto 2024 | Sistema Modular
DESCRIPTION:
URL:https://www.ucacue.edu.ec/evento/matriculas-especiales-periodo-marzo-agosto-2024-sistema-modular-2/
CATEGORIES:Institucional
END:VEVENT
BEGIN:VEVENT
DTSTART;TZID=America/Guayaquil:20240323T080000
DTEND;TZID=America/Guayaquil:20240405T170000
DTSTAMP:20260420T095250
CREATED:20240221T183225Z
LAST-MODIFIED:20240221T191840Z
UID:89772-1711180800-1712336400@www.ucacue.edu.ec
SUMMARY:Matrículas Internado de Enfermería - Extraordinarias | Período abril - septiembre 2024 | Sistema Regular - Campus La Troncal
DESCRIPTION:
URL:https://www.ucacue.edu.ec/evento/matriculas-internado-de-enfermeria-extraordinarias-periodo-abril-septiembre-2024-sistema-regular-campus-la-troncal/
CATEGORIES:Institucional,La Troncal
END:VEVENT
BEGIN:VEVENT
DTSTART;TZID=America/Guayaquil:20240323T080000
DTEND;TZID=America/Guayaquil:20240405T170000
DTSTAMP:20260420T095250
CREATED:20240221T183023Z
LAST-MODIFIED:20240221T191557Z
UID:89770-1711180800-1712336400@www.ucacue.edu.ec
SUMMARY:Matrículas Internado de Enfermería - Extraordinarias | Período marzo - agosto 2024 | Sistema Regular
DESCRIPTION:
URL:https://www.ucacue.edu.ec/evento/matriculas-internado-de-enfermeria-extraordinarias-periodo-marzo-agosto-2024-sistema-regular/
CATEGORIES:Institucional
END:VEVENT
BEGIN:VEVENT
DTSTART;TZID=America/Guayaquil:20240318T080000
DTEND;TZID=America/Guayaquil:20240330T170000
DTSTAMP:20260420T095250
CREATED:20240221T183755Z
LAST-MODIFIED:20240221T191629Z
UID:89776-1710748800-1711818000@www.ucacue.edu.ec
SUMMARY:Matriculas Internado de Medicina - Extraordinarias | Período marzo-agosto 2024 | Sistema Regular
DESCRIPTION:
URL:https://www.ucacue.edu.ec/evento/matriculas-internado-de-medicina-extraordinarias-periodo-marzo-agosto-2024-sistema-regular/
CATEGORIES:Institucional
END:VEVENT
BEGIN:VEVENT
DTSTART;TZID=America/Guayaquil:20240318T080000
DTEND;TZID=America/Guayaquil:20240330T170000
DTSTAMP:20260420T095250
CREATED:20240221T162636Z
LAST-MODIFIED:20240221T191648Z
UID:89714-1710748800-1711818000@www.ucacue.edu.ec
SUMMARY:Matrículas Extraordinarias | Período marzo - agosto 2024 | Sistema Regular
DESCRIPTION:
URL:https://www.ucacue.edu.ec/evento/matriculas-extraordinarias-periodo-marzo-agosto-2024-sistema-regular/
CATEGORIES:Institucional
END:VEVENT
BEGIN:VEVENT
DTSTART;TZID=America/Guayaquil:20240318T080000
DTEND;TZID=America/Guayaquil:20240324T170000
DTSTAMP:20260420T095250
CREATED:20240221T163107Z
LAST-MODIFIED:20240221T191708Z
UID:89717-1710748800-1711299600@www.ucacue.edu.ec
SUMMARY:Matrículas Extraordinarias | Período marzo - agosto 2024 | Sistema Modular
DESCRIPTION:
URL:https://www.ucacue.edu.ec/evento/matriculas-especiales-periodo-marzo-agosto-2024-sistema-modular/
CATEGORIES:Institucional
END:VEVENT
BEGIN:VEVENT
DTSTART;TZID=America/Guayaquil:20240315T080000
DTEND;TZID=America/Guayaquil:20240317T170000
DTSTAMP:20260420T095250
CREATED:20240221T183607Z
LAST-MODIFIED:20240221T191756Z
UID:89774-1710489600-1710694800@www.ucacue.edu.ec
SUMMARY:Matrículas Internado de Medicina - Ordinarias | Período marzo - agosto 2024 | Sistema Regular
DESCRIPTION:
URL:https://www.ucacue.edu.ec/evento/matriculas-internado-de-medicina-ordinarias-periodo-marzo-agosto-2024-sistema-regular/
CATEGORIES:Institucional
END:VEVENT
BEGIN:VEVENT
DTSTART;VALUE=DATE:20240315
DTEND;VALUE=DATE:20240316
DTSTAMP:20260420T095250
CREATED:20240221T161853Z
LAST-MODIFIED:20240221T192110Z
UID:89711-1710460800-1710547199@www.ucacue.edu.ec
SUMMARY:Matrículas Noveno y Decimo Ciclo - Medicina
DESCRIPTION:
URL:https://www.ucacue.edu.ec/evento/matriculas-septimo-y-octavo-ciclo-medicina-2/
CATEGORIES:Institucional
END:VEVENT
BEGIN:VEVENT
DTSTART;VALUE=DATE:20240314
DTEND;VALUE=DATE:20240315
DTSTAMP:20260420T095250
CREATED:20240221T161716Z
LAST-MODIFIED:20240221T192204Z
UID:89709-1710374400-1710460799@www.ucacue.edu.ec
SUMMARY:Matrículas Séptimo y Octavo Ciclo - Medicina
DESCRIPTION:
URL:https://www.ucacue.edu.ec/evento/matriculas-septimo-y-octavo-ciclo-medicina/
CATEGORIES:Institucional
END:VEVENT
BEGIN:VEVENT
DTSTART;VALUE=DATE:20240313
DTEND;VALUE=DATE:20240314
DTSTAMP:20260420T095250
CREATED:20240221T161439Z
LAST-MODIFIED:20240221T192215Z
UID:89707-1710288000-1710374399@www.ucacue.edu.ec
SUMMARY:Matrículas Quinto y Sexto Ciclo - Medicina
DESCRIPTION:
URL:https://www.ucacue.edu.ec/evento/matriculas-quinto-y-sexto-ciclo-medicina/
CATEGORIES:Institucional
END:VEVENT
BEGIN:VEVENT
DTSTART;VALUE=DATE:20240312
DTEND;VALUE=DATE:20240313
DTSTAMP:20260420T095250
CREATED:20240221T160945Z
LAST-MODIFIED:20240221T192228Z
UID:89705-1710201600-1710287999@www.ucacue.edu.ec
SUMMARY:Matrículas Tercero y Cuarto Ciclo - Medicina
DESCRIPTION:
URL:https://www.ucacue.edu.ec/evento/matriculas-tercero-y-cuarto-ciclo-medicina/
CATEGORIES:Institucional
END:VEVENT
BEGIN:VEVENT
DTSTART;VALUE=DATE:20240311
DTEND;VALUE=DATE:20240312
DTSTAMP:20260420T095250
CREATED:20240221T160856Z
LAST-MODIFIED:20240221T192249Z
UID:89703-1710115200-1710201599@www.ucacue.edu.ec
SUMMARY:Matrículas Primer y Segundo Ciclo - Medicina
DESCRIPTION:
URL:https://www.ucacue.edu.ec/evento/matriculas-primer-y-segundo-ciclo-medicina/
CATEGORIES:Institucional
END:VEVENT
BEGIN:VEVENT
DTSTART;TZID=America/Guayaquil:20240301T080000
DTEND;TZID=America/Guayaquil:20240322T170000
DTSTAMP:20260420T095250
CREATED:20240221T182548Z
LAST-MODIFIED:20240221T192435Z
UID:89766-1709280000-1711126800@www.ucacue.edu.ec
SUMMARY:Matrículas Internado de Enfermería - Ordinarias | Período abril-septiembre 2024 | Sistema Regular - Campus La Troncal
DESCRIPTION:
URL:https://www.ucacue.edu.ec/evento/matriculas-internado-de-enfermeria-ordinarias-periodo-abril-septiembre-2024-sistema-regular-campus-la-troncal/
CATEGORIES:Institucional,La Troncal
END:VEVENT
BEGIN:VEVENT
DTSTART;TZID=America/Guayaquil:20240301T080000
DTEND;TZID=America/Guayaquil:20240322T170000
DTSTAMP:20260420T095250
CREATED:20240221T182305Z
LAST-MODIFIED:20240221T192450Z
UID:89764-1709280000-1711126800@www.ucacue.edu.ec
SUMMARY:Matrículas Internado de Enfermería - Ordinarias | Período marzo - agosto 2024 | Sistema Regular
DESCRIPTION:
URL:https://www.ucacue.edu.ec/evento/matriculas-internado-de-enfermeria-ordinarias-periodo-marzo-agosto-2024-sistema-regular/
CATEGORIES:Institucional
END:VEVENT
BEGIN:VEVENT
DTSTART;TZID=America/Guayaquil:20240201T080000
DTEND;TZID=America/Guayaquil:20240215T170000
DTSTAMP:20260420T095250
CREATED:20240221T185844Z
LAST-MODIFIED:20240221T192510Z
UID:89788-1706774400-1708016400@www.ucacue.edu.ec
SUMMARY:Becas Por Ciclo | Período abril - septiembre 2024 | Sistema Regular y Modular - Campus La Troncal y Sistema Dual
DESCRIPTION:
URL:https://www.ucacue.edu.ec/evento/becas-por-ciclo-periodo-abril-septiembre-2024-sistema-regular-y-sistema-modular-campus-la-troncal-y-sistema-dual/
CATEGORIES:Institucional,La Troncal
END:VEVENT
BEGIN:VEVENT
DTSTART;TZID=America/Guayaquil:20240201T080000
DTEND;TZID=America/Guayaquil:20240215T170000
DTSTAMP:20260420T095250
CREATED:20240221T185448Z
LAST-MODIFIED:20240221T192400Z
UID:89786-1706774400-1708016400@www.ucacue.edu.ec
SUMMARY:Becas Por Ciclo | Período marzo - agosto 2024 | Sistema Regular y Sistema Modular
DESCRIPTION:
URL:https://www.ucacue.edu.ec/evento/becas-por-ciclo-periodo-marzo-agosto-2024-sistema-regular-y-sistema-modular/
CATEGORIES:Institucional
END:VEVENT
BEGIN:VEVENT
DTSTART;VALUE=DATE:20231218
DTEND;VALUE=DATE:20240325
DTSTAMP:20260420T095250
CREATED:20240219T200855Z
LAST-MODIFIED:20240219T201349Z
UID:89614-1702857600-1711324799@www.ucacue.edu.ec
SUMMARY:Inscripciones periodo marzo - agosto 2024 / Sistema Regular\, Modular
DESCRIPTION:
URL:https://www.ucacue.edu.ec/evento/inscripciones-periodo-marzo-agosto-2024-sistema-regular-modular/
CATEGORIES:Institucional
END:VEVENT
BEGIN:VEVENT
DTSTART;TZID=America/Guayaquil:20231212T150000
DTEND;TZID=America/Guayaquil:20231212T170000
DTSTAMP:20260420T095250
CREATED:20231013T200637Z
LAST-MODIFIED:20231013T200637Z
UID:86395-1702393200-1702400400@www.ucacue.edu.ec
SUMMARY:Proclamación definitiva de resultados | Entrega de credenciales
DESCRIPTION:Martes 12 de diciembre  \nNota: Si hasta las 12h00 del 05 de diciembre no se receptan apelaciones (segunda instancia)\, el Tribunal Electoral sesionará para proclamar definitivamente los resultados. \n15h00: sesión ordinaria para proclamar de manera definitiva los resultados\, entregar las credenciales a los triunfadores/as\, e informar\, a través del Rector al Consejo Universitario para la posesión de los/las representantes.
URL:https://www.ucacue.edu.ec/evento/proclamacion-definitiva-de-resultados-entrega-de-credenciales/
CATEGORIES:Elecciones
END:VEVENT
BEGIN:VEVENT
DTSTART;VALUE=DATE:20231130
DTEND;VALUE=DATE:20231201
DTSTAMP:20260420T095250
CREATED:20231013T200419Z
LAST-MODIFIED:20231013T200439Z
UID:86393-1701302400-1701388799@www.ucacue.edu.ec
SUMMARY:Plazo máximo para Apelaciones
DESCRIPTION:Jueves 30 de noviembre  \n12h00: plazo máximo para la recepción de apelaciones\, en Secretaría. \n15h00: sesión ordinaria para conocer y resolver sobre las apelaciones presentadas.
URL:https://www.ucacue.edu.ec/evento/plazo-maximo-para-apelaciones/
CATEGORIES:Elecciones
END:VEVENT
BEGIN:VEVENT
DTSTART;VALUE=DATE:20231127
DTEND;VALUE=DATE:20231128
DTSTAMP:20260420T095250
CREATED:20231013T200233Z
LAST-MODIFIED:20231013T200233Z
UID:86391-1701043200-1701129599@www.ucacue.edu.ec
SUMMARY:Votación
DESCRIPTION:Lunes 27 de noviembre  \n08h00: sesión permanente del Tribunal Electoral Universitario\, con el fin de vigilar el proceso de votación\, hasta la proclamación de resultados. \nDe 08h00 a 20h00: votación. \n20h15: proclamación preliminar de resultados\, en el auditorio de la Casa Administrativa.
URL:https://www.ucacue.edu.ec/evento/votacion/
CATEGORIES:Elecciones
END:VEVENT
BEGIN:VEVENT
DTSTART;TZID=America/Guayaquil:20231116T120000
DTEND;TZID=America/Guayaquil:20231116T170000
DTSTAMP:20260420T095250
CREATED:20231013T200032Z
LAST-MODIFIED:20231013T200903Z
UID:86389-1700136000-1700154000@www.ucacue.edu.ec
SUMMARY:Plazo máximo de entrega y registro de listas de candidatos/as
DESCRIPTION:Jueves 16 de noviembre  \n12h00: plazo máximo de entrega y registro de listas de candidatos/as\, en la Secretaría del Tribunal Electoral (Prosecretaria General). \n14h00: sesión ordinaria del Tribunal Electoral para analizar los documentos presentados\, aprobarlos o no y establecer el número de lista\, autorizando el inicio de la publicidad. \nNota: las listas que hayan sido calificadas\, podrán iniciar el proceso publicitario o de promoción. \nA las listas que no se les califique ante requerimiento que puede ser solucionado o completado\, a criterio del Tribunal Electoral Universitario\, se les concederá un plazo máximo de 24 horas\, para que presenten los documentos observados\, para conocimiento y resolución del Tribunal.
URL:https://www.ucacue.edu.ec/evento/jueves-16-de-noviembre/
CATEGORIES:Elecciones
END:VEVENT
BEGIN:VEVENT
DTSTART;TZID=America/Guayaquil:20231017T120000
DTEND;TZID=America/Guayaquil:20231017T163000
DTSTAMP:20260420T095250
CREATED:20231013T195918Z
LAST-MODIFIED:20231013T200802Z
UID:86387-1697544000-1697560200@www.ucacue.edu.ec
SUMMARY:Recepción de Registros Electorales de Profesores\, Trabajadores y Estudiantes
DESCRIPTION:Martes 17 de octubre  \n12h00: Recepción en Secretaría\, de: \n\nRegistro Electoral de Profesores y Trabajadores (Talento Humano).\nRegistro Electoral de Estudiantes (Secretaría General).\n\n14h30: Sesión ordinaria del Tribunal Electoral para: \n\nConocer los Registros Electorales de los Profesores\, Trabajadores y Estudiantes; y\, establecer el porcentaje de las firmas que se requieren para el respaldo de una lista.\nProporcionar los registros electorales a la Jefatura de Tecnología Informática\, a efecto de que\, con la información constante en los registros\, se implemente el sistema de consulta de empadronamiento y solicitar se coloque el mismo en la página web oficial Institucional.\nElaborar la solicitud para la publicidad de la convocatoria en los medios de comunicación y páginas web de la Institución.\nAutorizar a Secretaría del Tribunal\, la reproducción y entrega de los formularios para la recepción de firmas de apoyo\, a los representantes acreditados de las listas\, las mismas que serán entregadas hasta 24 horas antes de que caduque el plazo para la inscripción de listas.\n\nNota: Las listas de candidatos\, con los documentos de soporte\, serán entregadas y registradas en la Secretaría del Tribunal Electoral (Prosecretaria General) hasta las 12h00 del jueves 16 de noviembre.
URL:https://www.ucacue.edu.ec/evento/martes-17-de-octubre/
CATEGORIES:Elecciones
END:VEVENT
BEGIN:VEVENT
DTSTART;TZID=America/Guayaquil:20231006T143000
DTEND;TZID=America/Guayaquil:20231006T160000
DTSTAMP:20260420T095250
CREATED:20231013T195552Z
LAST-MODIFIED:20231013T195655Z
UID:86385-1696602600-1696608000@www.ucacue.edu.ec
SUMMARY:Viernes 06 de octubre
DESCRIPTION:14h30: Sesión ordinaria del Tribunal Electoral para: \n\nConocer la Convocatoria Rectoral sobre la elección de representantes de Estudiantes\, a los Órganos de Cogobierno: Consejo Universitario y Consejos Directivos de Unidades Académicas; y\, Elecciones Estudiantiles. Así como para la elección de Representantes de Profesores y Trabajadores a los Consejos Directivos de las Unidades Académicas de reciente creación: Formación Técnica y Tecnológica Superior; y\, de Criminología y Ciencias Forenses.\nElaborar y aprobar el cronograma de todo el proceso electoral.\nSolicitar a la Jefatura de Talento Humano los Registros Electorales de Profesores y Trabajadores; y\, a la Secretaría General el Registro Electoral de los/las estudiantes.\nAutorizar la preparación de los documentos necesarios para el proceso electoral.\n\nNota: Los responsables entregarán el Registros Electorales impresos y en versión digital hasta las 12h00 del martes 17 de octubre\, en la Secretaría del Tribunal Electoral Universitario (Prosecretaria General de la Universidad Católica de Cuenca / planta baja del edificio administrativo)
URL:https://www.ucacue.edu.ec/evento/viernes-06-de-octubre/
CATEGORIES:Elecciones
END:VEVENT
BEGIN:VEVENT
DTSTART;VALUE=DATE:20230925
DTEND;VALUE=DATE:20231021
DTSTAMP:20260420T095250
CREATED:20230703T212125Z
LAST-MODIFIED:20230703T213133Z
UID:83769-1695600000-1697846399@www.ucacue.edu.ec
SUMMARY:Postulación por Primera Vez a Becas para el Ciclo Académico de Septiembre 2023 - Febrero 2024
DESCRIPTION:
URL:https://www.ucacue.edu.ec/evento/postulacion-primera-vez-a-becas-para-el-ciclo-academico-de-septiembre-2023-febrero-2024/
CATEGORIES:Institucional
END:VEVENT
BEGIN:VEVENT
DTSTART;TZID=America/Guayaquil:20230810T080000
DTEND;TZID=America/Guayaquil:20230817T170000
DTSTAMP:20260420T095250
CREATED:20230223T203819Z
LAST-MODIFIED:20230223T203819Z
UID:78144-1691654400-1692291600@www.ucacue.edu.ec
SUMMARY:Tutorías y Examen de recuperación periodo marzo - agosto 2023 / Medicina
DESCRIPTION:
URL:https://www.ucacue.edu.ec/evento/tutorias-y-examen-de-recuperacion-periodo-marzo-agosto-2023-medicina/
CATEGORIES:Institucional
END:VEVENT
BEGIN:VEVENT
DTSTART;VALUE=DATE:20230809
DTEND;VALUE=DATE:20230810
DTSTAMP:20260420T095250
CREATED:20230223T202643Z
LAST-MODIFIED:20230223T202643Z
UID:78134-1691539200-1691625599@www.ucacue.edu.ec
SUMMARY:Fin de clases periodo marzo - agosto 2023 / Medicina y Modular
DESCRIPTION:
URL:https://www.ucacue.edu.ec/evento/fin-de-clases-periodo-marzo-agosto-2023-medicina-y-modular/
CATEGORIES:Institucional
END:VEVENT
BEGIN:VEVENT
DTSTART;TZID=America/Guayaquil:20230803T080000
DTEND;TZID=America/Guayaquil:20230809T170000
DTSTAMP:20260420T095250
CREATED:20230223T203555Z
LAST-MODIFIED:20230223T203555Z
UID:78142-1691049600-1691600400@www.ucacue.edu.ec
SUMMARY:Evaluación final periodo marzo - agosto 2023 / Medicina
DESCRIPTION:
URL:https://www.ucacue.edu.ec/evento/evaluacion-final-periodo-marzo-agosto-2023-medicina/
CATEGORIES:Institucional
END:VEVENT
BEGIN:VEVENT
DTSTART;TZID=America/Guayaquil:20230801T080000
DTEND;TZID=America/Guayaquil:20230804T170000
DTSTAMP:20260420T095250
CREATED:20230223T204727Z
LAST-MODIFIED:20230223T204727Z
UID:78150-1690876800-1691168400@www.ucacue.edu.ec
SUMMARY:Tutorías y examen de recuperación periodo marzo - agosto 2023 / Regular
DESCRIPTION:
URL:https://www.ucacue.edu.ec/evento/tutorias-y-examen-de-recuperacion-periodo-marzo-agosto-2023-regular/
CATEGORIES:Institucional
END:VEVENT
BEGIN:VEVENT
DTSTART;TZID=America/Guayaquil:20230726T080000
DTEND;TZID=America/Guayaquil:20230726T170000
DTSTAMP:20260420T095250
CREATED:20230223T203124Z
LAST-MODIFIED:20230223T203124Z
UID:78138-1690358400-1690390800@www.ucacue.edu.ec
SUMMARY:Fin de clases periodo marzo - agosto 2023 / Regular
DESCRIPTION:
URL:https://www.ucacue.edu.ec/evento/fin-de-clases-periodo-marzo-agosto-2023-regular/
CATEGORIES:Institucional
END:VEVENT
END:VCALENDAR