BEGIN:VCALENDAR
VERSION:2.0
PRODID:-//Universidad Católica de Cuenca - ECPv6.15.17.1//NONSGML v1.0//EN
CALSCALE:GREGORIAN
METHOD:PUBLISH
X-ORIGINAL-URL:https://www.ucacue.edu.ec
X-WR-CALDESC:Eventos para Universidad Católica de Cuenca
REFRESH-INTERVAL;VALUE=DURATION:PT1H
X-Robots-Tag:noindex
X-PUBLISHED-TTL:PT1H
BEGIN:VTIMEZONE
TZID:America/Guayaquil
BEGIN:STANDARD
TZOFFSETFROM:-0500
TZOFFSETTO:-0500
TZNAME:-05
DTSTART:20220101T000000
END:STANDARD
END:VTIMEZONE
BEGIN:VEVENT
DTSTART;TZID=America/Guayaquil:20231116T120000
DTEND;TZID=America/Guayaquil:20231116T170000
DTSTAMP:20260424T155719
CREATED:20231013T200032Z
LAST-MODIFIED:20231013T200903Z
UID:86389-1700136000-1700154000@www.ucacue.edu.ec
SUMMARY:Plazo máximo de entrega y registro de listas de candidatos/as
DESCRIPTION:Jueves 16 de noviembre  \n12h00: plazo máximo de entrega y registro de listas de candidatos/as\, en la Secretaría del Tribunal Electoral (Prosecretaria General). \n14h00: sesión ordinaria del Tribunal Electoral para analizar los documentos presentados\, aprobarlos o no y establecer el número de lista\, autorizando el inicio de la publicidad. \nNota: las listas que hayan sido calificadas\, podrán iniciar el proceso publicitario o de promoción. \nA las listas que no se les califique ante requerimiento que puede ser solucionado o completado\, a criterio del Tribunal Electoral Universitario\, se les concederá un plazo máximo de 24 horas\, para que presenten los documentos observados\, para conocimiento y resolución del Tribunal.
URL:https://www.ucacue.edu.ec/evento/jueves-16-de-noviembre/
CATEGORIES:Elecciones
END:VEVENT
BEGIN:VEVENT
DTSTART;VALUE=DATE:20231127
DTEND;VALUE=DATE:20231128
DTSTAMP:20260424T155719
CREATED:20231013T200233Z
LAST-MODIFIED:20231013T200233Z
UID:86391-1701043200-1701129599@www.ucacue.edu.ec
SUMMARY:Votación
DESCRIPTION:Lunes 27 de noviembre  \n08h00: sesión permanente del Tribunal Electoral Universitario\, con el fin de vigilar el proceso de votación\, hasta la proclamación de resultados. \nDe 08h00 a 20h00: votación. \n20h15: proclamación preliminar de resultados\, en el auditorio de la Casa Administrativa.
URL:https://www.ucacue.edu.ec/evento/votacion/
CATEGORIES:Elecciones
END:VEVENT
BEGIN:VEVENT
DTSTART;VALUE=DATE:20231130
DTEND;VALUE=DATE:20231201
DTSTAMP:20260424T155719
CREATED:20231013T200419Z
LAST-MODIFIED:20231013T200439Z
UID:86393-1701302400-1701388799@www.ucacue.edu.ec
SUMMARY:Plazo máximo para Apelaciones
DESCRIPTION:Jueves 30 de noviembre  \n12h00: plazo máximo para la recepción de apelaciones\, en Secretaría. \n15h00: sesión ordinaria para conocer y resolver sobre las apelaciones presentadas.
URL:https://www.ucacue.edu.ec/evento/plazo-maximo-para-apelaciones/
CATEGORIES:Elecciones
END:VEVENT
END:VCALENDAR