BEGIN:VCALENDAR
VERSION:2.0
PRODID:-//Universidad Católica de Cuenca - ECPv6.15.17.1//NONSGML v1.0//EN
CALSCALE:GREGORIAN
METHOD:PUBLISH
X-ORIGINAL-URL:https://www.ucacue.edu.ec
X-WR-CALDESC:Eventos para Universidad Católica de Cuenca
REFRESH-INTERVAL;VALUE=DURATION:PT1H
X-Robots-Tag:noindex
X-PUBLISHED-TTL:PT1H
BEGIN:VTIMEZONE
TZID:America/Guayaquil
BEGIN:STANDARD
TZOFFSETFROM:-0500
TZOFFSETTO:-0500
TZNAME:-05
DTSTART:20220101T000000
END:STANDARD
END:VTIMEZONE
BEGIN:VEVENT
DTSTART;TZID=America/Guayaquil:20231212T150000
DTEND;TZID=America/Guayaquil:20231212T170000
DTSTAMP:20260424T022140
CREATED:20231013T200637Z
LAST-MODIFIED:20231013T200637Z
UID:86395-1702393200-1702400400@www.ucacue.edu.ec
SUMMARY:Proclamación definitiva de resultados | Entrega de credenciales
DESCRIPTION:Martes 12 de diciembre  \nNota: Si hasta las 12h00 del 05 de diciembre no se receptan apelaciones (segunda instancia)\, el Tribunal Electoral sesionará para proclamar definitivamente los resultados. \n15h00: sesión ordinaria para proclamar de manera definitiva los resultados\, entregar las credenciales a los triunfadores/as\, e informar\, a través del Rector al Consejo Universitario para la posesión de los/las representantes.
URL:https://www.ucacue.edu.ec/evento/proclamacion-definitiva-de-resultados-entrega-de-credenciales/
CATEGORIES:Elecciones
END:VEVENT
BEGIN:VEVENT
DTSTART;VALUE=DATE:20231218
DTEND;VALUE=DATE:20240325
DTSTAMP:20260424T022140
CREATED:20240219T200855Z
LAST-MODIFIED:20240219T201349Z
UID:89614-1702857600-1711324799@www.ucacue.edu.ec
SUMMARY:Inscripciones periodo marzo - agosto 2024 / Sistema Regular\, Modular
DESCRIPTION:
URL:https://www.ucacue.edu.ec/evento/inscripciones-periodo-marzo-agosto-2024-sistema-regular-modular/
CATEGORIES:Institucional
END:VEVENT
END:VCALENDAR